Workbook

Sheet 원가계산서
B1: 공 사 원 가 계 산 서
B2: 공사명 : 사산노인전문병원 치매요양병원 리모델링 소방공사 | F2: 금액 :
B3: 비 목 | E3: 금 액 | F3: 구 성 비 | G3: 비 고
A4: A1 | B4: 순 공 사 원 가 | C4: 재 료 비 | D4: 직 접 재 료 비 | E4: =TRUNC(공종별집계표!F5, 0) -> 0
A5: A2 | D5: 간 접 재 료 비 | E5: 0
A6: A3 | D6: 작업설, 부산물(△) | E6: 0
A7: AS | D7: [ 소 계 ] | E7: =TRUNC(E4+E5-E6, 0) -> 0
A8: B1 | C8: 노 무 비 | D8: 직 접 노 무 비 | E8: =TRUNC(공종별집계표!H5, 0) -> 0
A9: B2 | D9: 간 접 노 무 비 | E9: =TRUNC(E8*0.079, 0) -> 0 | F9: 직접노무비 * 7.9%
A10: BS | D10: [ 소 계 ] | E10: =TRUNC(E8+E9, 0) -> 0
A11: C4 | C11: 경 비 | D11: 산 재 보 험 료 | E11: =TRUNC(E10*0.0405, 0) -> 0 | F11: 노무비 * 4.05%
A12: C5 | D12: 고 용 보 험 료 | E12: =TRUNC(E10*0.0087, 0) -> 0 | F12: 노무비 * 0.87%
A13: C6 | D13: 국민 건강 보험료 | E13: =TRUNC(E8*0.0312, 0) -> 0 | F13: 직접노무비 * 3.12%
A14: C7 | D14: 국민 연금 보험료 | E14: =TRUNC(E8*0.045, 0) -> 0 | F14: 직접노무비 * 4.5%
A15: CB | D15: 노인장기요양보험료 | E15: =TRUNC(E13*0.0738, 0) -> 0 | F15: 건강보험료 * 7.38%
A16: CG | D16: 기 타 경 비 | E16: =TRUNC((E7+E10)*0.055, 0) -> 0 | F16: (재료비+노무비) * 5.5%
A17: CS | D17: [ 소 계 ] | E17: =TRUNC(E11+E12+E13+E14+E15+E16, 0) -> 0
A18: S1 | B18: 계 | E18: =TRUNC(E7+E10+E17, 0) -> 0
A19: D1 | B19: 일 반 관 리 비 | E19: =TRUNC(E18*0.06, 0) -> 0 | F19: 계 * 6%
A20: D2 | B20: 이 윤 | E20: =TRUNC((E10+E17+E19)*0.15, 0) -> 0 | F20: (노무비+경비+일반관리비) * 15%
A21: D9 | B21: 공 급 가 액 | E21: =TRUNC(INT((E18+E19+E20)/10000)*10000, 0) -> 0
A22: DB | B22: 부 가 가 치 세 | E22: =TRUNC(E21*0.1, 0) -> 0 | F22: 공급가액 * 10%
A23: DH | B23: 도 급 액 | E23: =TRUNC(E21+E22, 0) -> 0
A24: S2 | B24: 총 공 사 비 | E24: =TRUNC(E23+0, 0) -> 0

Sheet 공종별집계표
A1: 공 종 별 집 계 표
A2: [ 사산노인전문병원 치매요양병원 리모델링 소방공사 ]
A3: 품 명 | B3: 규 격 | C3: 단위 | D3: 수량 | E3: 재 료 비 | G3: 노 무 비 | I3: 경 비 | K3: 합 계 | M3: 비 고 | N3: 공종코드 | O3: 변수 | P3: 상위공종 | Q3: 공종구분 | R3: 공종레벨 | S3: 공종소계 | T3: 원가계산서 연결금액
E4: 단 가 | F4: 금 액 | G4: 단 가 | H4: 금 액 | I4: 단 가 | J4: 금 액 | K4: 단 가 | L4: 금 액
A5: 01 사산노인전문병원 치매요양병원 리모델링 소방공사 | D5: 1 | E5: =F6 -> 0 | F5: =E5*D5 -> 0 | G5: =H6 -> 0 | H5: =G5*D5 -> 0 | I5: =J6 -> 0 | J5: =I5*D5 -> 0 | K5: =E5+G5+I5 -> 0 | L5: =F5+H5+J5 -> 0 | N5: 01 | R5: 1
A6: 0101 소방공사 | D6: 1 | E6: =F7 -> 0 | F6: =E6*D6 -> 0 | G6: =H7 -> 0 | H6: =G6*D6 -> 0 | I6: =J7 -> 0 | J6: =I6*D6 -> 0 | K6: =E6+G6+I6 -> 0 | L6: =F6+H6+J6 -> 0 | N6: 0101 | P6: 01 | R6: 2
A7: 010101 자탐 설비공사 | D7: 1 | E7: =공종별내역서!F27 -> 0 | F7: =E7*D7 -> 0 | G7: =공종별내역서!H27 -> 0 | H7: =G7*D7 -> 0 | I7: =공종별내역서!J27 -> 0 | J7: =I7*D7 -> 0 | K7: =E7+G7+I7 -> 0 | L7: =F7+H7+J7 -> 0 | N7: 010101 | P7: 0101 | R7: 3
A27: [ 합 계 ] | F27: =F5 -> 0 | H27: =H5 -> 0 | J27: =J5 -> 0 | L27: =L5 -> 0

Sheet 공종별내역서
A1: [ 사산노인전문병원 치매요양병원 리모델링 소방공사 ]
A2: 품 명 | B2: 규 격 | C2: 단위 | D2: 수량 | E2: 재 료 비 | G2: 노 무 비 | I2: 경 비 | K2: 합 계 | M2: 비 고 | N2: 품목코드 | O2: 변수 | P2: 설정 | Q2: 공종코드 | R2: 일위 | S2: 단산 | T2: 자재 | U2: 손료적용 | V2: 손료저장 | W2: 적용율 | X2: JUK1 | Y2: JUK2 | Z2: JUK3 | AA2: JUK4 | AB2: JUK5 | AC2: JUK6 | AD2: JUK7 | AE2: JUK8 | AF2: JUK9 | AG2: JUK10 | AH2: JUK11 | AI2: JUK12 | AJ2: JUK13 | AK2: JUK14 | AL2: JUK15 | AM2: JUK16 | AN2: JUK17 | AO2: JUK18 | AP2: JUK19 | AQ2: JUK20 | AR2: 자재구분 | AS2: 공종구분 | AT2: 공종레벨 | AU2: 공종+자재 | AV2: 고유번호
E3: 단 가 | F3: 금 액 | G3: 단 가 | H3: 금 액 | J3: 금 액 | K3: 단 가 | L3: 금 액
A4: 010101 자탐 설비공사 | Q4: 010101
A5: 강제전선관 | B5: 강제전선관, 후강전선관, 아연도, 16mm | C5: M | D5: 74 | F5: =TRUNC(E5*D5, 0) -> 0 | H5: =TRUNC(G5*D5, 0) -> 0 | J5: =TRUNC(I5*D5, 0) -> 0 | K5: =TRUNC(E5+G5+I5, 0) -> 0 | L5: =TRUNC(F5+H5+J5, 0) -> 0 | N5: 58DA848238EECBECA87B81EFF849FFE30043C1 | Q5: 010101 | R5: F | S5: F | T5: T | X5: 1 | Y5: 2 | AU5: 01010158DA848238EECBECA87B81EFF849FFE30043C1 | AV5: 160
A6: 1종금속제가요전선관 | B6: 1종금속제가요전선관, 16mm, 비방수 | C6: M | D6: 72 | F6: =TRUNC(E6*D6, 0) -> 0 | H6: =TRUNC(G6*D6, 0) -> 0 | J6: =TRUNC(I6*D6, 0) -> 0 | K6: =TRUNC(E6+G6+I6, 0) -> 0 | L6: =TRUNC(F6+H6+J6, 0) -> 0 | N6: 58DA848238EECBECA87B82F6E877D135B07948 | Q6: 010101 | R6: F | S6: F | T6: T | X6: 1 | Y6: 2 | AU6: 01010158DA848238EECBECA87B82F6E877D135B07948 | AV6: 249
A7: 전선관부속품비 | B7: 전선관의 15% | C7: 식 | D7: 1 | F7: =TRUNC(E7*D7, 0) -> 0 | H7: =TRUNC(G7*D7, 0) -> 0 | J7: =TRUNC(I7*D7, 0) -> 0 | K7: =TRUNC(E7+G7+I7, 0) -> 0 | L7: =TRUNC(F7+H7+J7, 0) -> 0 | N7: 5EE50447A8E1CCD188AB4B30B810001 | Q7: 010101 | R7: F | S7: F | T7: F | U7: 0 | V7: 0 | W7: 0.15 | AU7: 0101015EE50447A8E1CCD188AB4B30B830003 | AV7: 255
A8: 잡재료비 | B8: 배관배선의 2% | C8: 식 | D8: 1 | F8: =TRUNC(E8*D8, 0) -> 0 | H8: =TRUNC(G8*D8, 0) -> 0 | J8: =TRUNC(I8*D8, 0) -> 0 | K8: =TRUNC(E8+G8+I8, 0) -> 0 | L8: =TRUNC(F8+H8+J8, 0) -> 0 | N8: 5EE50447A8E1CCD188AB4B30B820002 | Q8: 010101 | R8: F | S8: F | T8: F | U8: 0 | V8: 0 | W8: 0.02 | AU8: 0101015EE50447A8E1CCD188AB4B30B810001 | AV8: 253
A9: 저독성난연케이블 | B9: HFIX, 1.38㎜ | C9: M | D9: 589 | F9: =TRUNC(E9*D9, 0) -> 0 | H9: =TRUNC(G9*D9, 0) -> 0 | J9: =TRUNC(I9*D9, 0) -> 0 | K9: =TRUNC(E9+G9+I9, 0) -> 0 | L9: =TRUNC(F9+H9+J9, 0) -> 0 | N9: 58C9D437281F88C2B8D5906388EAFF0110F4F4 | Q9: 010101 | R9: F | S9: F | T9: T | AU9: 01010158C9D437281F88C2B8D5906388EAFF0110F4F4 | AV9: 161
A10: 아웃렛박스 | B10: 아웃렛박스, 중형4각, 54mm | C10: 개 | D10: 14 | F10: =TRUNC(E10*D10, 0) -> 0 | H10: =TRUNC(G10*D10, 0) -> 0 | J10: =TRUNC(I10*D10, 0) -> 0 | K10: =TRUNC(E10+G10+I10, 0) -> 0 | L10: =TRUNC(F10+H10+J10, 0) -> 0 | N10: 58DA848238FF287CA85AB975C8AA265270FA33 | Q10: 010101 | R10: F | S10: F | T10: T | AU10: 01010158DA848238FF287CA85AB975C8AA265270FA33 | AV10: 162
A11: 연기감지기 | B11: 연기감지기, 열감지기, 차동식스포트형 | C11: 개 | D11: 34 | F11: =TRUNC(E11*D11, 0) -> 0 | H11: =TRUNC(G11*D11, 0) -> 0 | J11: =TRUNC(I11*D11, 0) -> 0 | K11: =TRUNC(E11+G11+I11, 0) -> 0 | L11: =TRUNC(F11+H11+J11, 0) -> 0 | N11: 58AEB4FE9857AEF538177155586F19B7405B9A | Q11: 010101 | R11: F | S11: F | T11: T | AU11: 01010158AEB4FE9857AEF538177155586F19B7405B9A | AV11: 168
A12: 연기감지기 | B12: 연기감지기, 광전식 2종-비축적 | C12: 개 | D12: 9 | F12: =TRUNC(E12*D12, 0) -> 0 | H12: =TRUNC(G12*D12, 0) -> 0 | J12: =TRUNC(I12*D12, 0) -> 0 | K12: =TRUNC(E12+G12+I12, 0) -> 0 | L12: =TRUNC(F12+H12+J12, 0) -> 0 | N12: 58AEB4FE9857AEF538177155586F19B74058C7 | Q12: 010101 | R12: F | S12: F | T12: T | AU12: 01010158AEB4FE9857AEF538177155586F19B74058C7 | AV12: 250
A13: 감지기(철거) | B13: 차동식, 연기식 | C13: 개 | D13: 27 | F13: =TRUNC(E13*D13, 0) -> 0 | H13: =TRUNC(G13*D13, 0) -> 0 | J13: =TRUNC(I13*D13, 0) -> 0 | K13: =TRUNC(E13+G13+I13, 0) -> 0 | L13: =TRUNC(F13+H13+J13, 0) -> 0 | N13: 58AEB4FE9857AEF538177155586F19B74059EA | Q13: 010101 | R13: F | S13: F | T13: T | AU13: 01010158AEB4FE9857AEF538177155586F19B74059EA | AV13: 251
A14: 화재경보장치 | B14: 수동발신기, 시각경보기, 15cd | C14: 개 | D14: 1 | F14: =TRUNC(E14*D14, 0) -> 0 | H14: =TRUNC(G14*D14, 0) -> 0 | J14: =TRUNC(I14*D14, 0) -> 0 | K14: =TRUNC(E14+G14+I14, 0) -> 0 | L14: =TRUNC(F14+H14+J14, 0) -> 0 | N14: 58AEB4FE9857AEF538139A7F68ED5586F079EF | Q14: 010101 | R14: F | S14: F | T14: T | AU14: 01010158AEB4FE9857AEF538139A7F68ED5586F079EF | AV14: 169
A15: 내선전공 | B15: 일반공사 직종 | C15: 인 | D15: 22.2 | F15: =TRUNC(E15*D15, 0) -> 0 | H15: =TRUNC(G15*D15, 0) -> 0 | J15: =TRUNC(I15*D15, 0) -> 0 | K15: =TRUNC(E15+G15+I15, 0) -> 0 | L15: =TRUNC(F15+H15+J15, 0) -> 0 | N15: 5F2AB414E8A282B6E8267B49C8834856A0BEB8 | Q15: 010101 | R15: F | S15: F | T15: T | Z15: 3 | AU15: 0101015F2AB414E8A282B6E8267B49C8834856A0BEB8 | AV15: 252
A16: 공구손료 | B16: 인력품의 3% | C16: 식 | D16: 1 | F16: =TRUNC(E16*D16, 0) -> 0 | H16: =TRUNC(G16*D16, 0) -> 0 | J16: =TRUNC(I16*D16, 0) -> 0 | K16: =TRUNC(E16+G16+I16, 0) -> 0 | L16: =TRUNC(F16+H16+J16, 0) -> 0 | N16: 5EE50447A8E1CCD188AB4B30B830003 | Q16: 010101 | R16: F | S16: F | T16: F | U16: 1 | V16: 0 | W16: 0.03 | AU16: 0101015EE50447A8E1CCD188AB4B30B820002 | AV16: 254
A27: [ 합 계 ] | F27: =SUM(F5:F26) -> 0 | H27: =SUM(H5:H26) -> 0 | J27: =SUM(J5:J26) -> 0 | L27: =SUM(L5:L26) -> 0 | N27: TOTAL

Sheet Sheet1
